BEGIN:VCALENDAR
VERSION:2.0
PRODID:-//UTC Biberbach - ECPv6.9.0//NONSGML v1.0//EN
CALSCALE:GREGORIAN
METHOD:PUBLISH
X-ORIGINAL-URL:https://www.utc-biberbach.at
X-WR-CALDESC:Veranstaltungen für UTC Biberbach
REFRESH-INTERVAL;VALUE=DURATION:PT1H
X-Robots-Tag:noindex
X-PUBLISHED-TTL:PT1H
BEGIN:VTIMEZONE
TZID:Europe/Berlin
BEGIN:DAYLIGHT
TZOFFSETFROM:+0100
TZOFFSETTO:+0200
TZNAME:CEST
DTSTART:20200329T010000
END:DAYLIGHT
BEGIN:STANDARD
TZOFFSETFROM:+0200
TZOFFSETTO:+0100
TZNAME:CET
DTSTART:20201025T010000
END:STANDARD
END:VTIMEZONE
BEGIN:VEVENT
DTSTART;TZID=Europe/Berlin:20200905T120000
DTEND;TZID=Europe/Berlin:20200905T120000
DTSTAMP:20260420T142631
CREATED:20200603T183125Z
LAST-MODIFIED:20200603T183125Z
UID:2320-1599307200-1599307200@www.utc-biberbach.at
SUMMARY:UTC Raiffeisen Weistrach 1 gegen Herren 2
DESCRIPTION:
URL:https://www.utc-biberbach.at/event/utc-raiffeisen-weistrach-1-gegen-herren-2/
CATEGORIES:Herren KLB
END:VEVENT
BEGIN:VEVENT
DTSTART;TZID=Europe/Berlin:20200829T120000
DTEND;TZID=Europe/Berlin:20200829T120000
DTSTAMP:20260420T142631
CREATED:20200603T183124Z
LAST-MODIFIED:20200603T183124Z
UID:2319-1598702400-1598702400@www.utc-biberbach.at
SUMMARY:Herren 2 gegen UTC Seitenstetten 1 1
DESCRIPTION:
URL:https://www.utc-biberbach.at/event/herren-2-gegen-utc-seitenstetten-1-1/
CATEGORIES:Herren KLB
END:VEVENT
BEGIN:VEVENT
DTSTART;TZID=Europe/Berlin:20200712T090000
DTEND;TZID=Europe/Berlin:20200712T090000
DTSTAMP:20260420T142631
CREATED:20200603T183124Z
LAST-MODIFIED:20200603T183124Z
UID:2316-1594544400-1594544400@www.utc-biberbach.at
SUMMARY:UTPC Goestling 1 gegen Herren 4
DESCRIPTION:
URL:https://www.utc-biberbach.at/event/utpc-goestling-1-gegen-herren-4/
CATEGORIES:Herren KLD1
END:VEVENT
BEGIN:VEVENT
DTSTART;TZID=Europe/Berlin:20200712T090000
DTEND;TZID=Europe/Berlin:20200712T090000
DTSTAMP:20260420T142631
CREATED:20200603T183124Z
LAST-MODIFIED:20200603T183124Z
UID:2317-1594544400-1594544400@www.utc-biberbach.at
SUMMARY:UTC RAIKA Haidershofen 2 gegen Herren 5
DESCRIPTION:
URL:https://www.utc-biberbach.at/event/utc-raika-haidershofen-2-gegen-herren-5/
CATEGORIES:Herren KLF1
END:VEVENT
BEGIN:VEVENT
DTSTART;TZID=Europe/Berlin:20200712T090000
DTEND;TZID=Europe/Berlin:20200712T090000
DTSTAMP:20260420T142631
CREATED:20200603T183124Z
LAST-MODIFIED:20200603T183124Z
UID:2318-1594544400-1594544400@www.utc-biberbach.at
SUMMARY:Herren 2 gegen UTC Euratsfeld 1
DESCRIPTION:
URL:https://www.utc-biberbach.at/event/herren-2-gegen-utc-euratsfeld-1/
CATEGORIES:Herren KLB
END:VEVENT
BEGIN:VEVENT
DTSTART;TZID=Europe/Berlin:20200711T130000
DTEND;TZID=Europe/Berlin:20200711T130000
DTSTAMP:20260420T142631
CREATED:20200603T183124Z
LAST-MODIFIED:20200603T183124Z
UID:2315-1594472400-1594472400@www.utc-biberbach.at
SUMMARY:UTC Texingtal 3 gegen Damen 1
DESCRIPTION:
URL:https://www.utc-biberbach.at/event/utc-texingtal-3-gegen-damen-1/
CATEGORIES:Damen KLC1
END:VEVENT
BEGIN:VEVENT
DTSTART;TZID=Europe/Berlin:20200711T120000
DTEND;TZID=Europe/Berlin:20200711T120000
DTSTAMP:20260420T142631
CREATED:20200603T183123Z
LAST-MODIFIED:20200603T183123Z
UID:2314-1594468800-1594468800@www.utc-biberbach.at
SUMMARY:Herren 3 gegen TC Greinsfurth 1
DESCRIPTION:
URL:https://www.utc-biberbach.at/event/herren-3-gegen-tc-greinsfurth-1/
CATEGORIES:Herren KLC2
END:VEVENT
BEGIN:VEVENT
DTSTART;TZID=Europe/Berlin:20200710T150000
DTEND;TZID=Europe/Berlin:20200710T150000
DTSTAMP:20260420T142631
CREATED:20200603T183123Z
LAST-MODIFIED:20200603T183123Z
UID:2313-1594393200-1594393200@www.utc-biberbach.at
SUMMARY:Herren +35 gegen TC Ulmerfeld/Hausmening 3
DESCRIPTION:
URL:https://www.utc-biberbach.at/event/herren-35-gegen-tc-ulmerfeld-hausmening-3/
CATEGORIES:Herren 35+ B
END:VEVENT
BEGIN:VEVENT
DTSTART;TZID=Europe/Berlin:20200705T150000
DTEND;TZID=Europe/Berlin:20200705T150000
DTSTAMP:20260420T142631
CREATED:20200603T183123Z
LAST-MODIFIED:20200603T183123Z
UID:2312-1593961200-1593961200@www.utc-biberbach.at
SUMMARY:Jugend ITN8-10 spielfrei*
DESCRIPTION:
URL:https://www.utc-biberbach.at/event/jugend-itn8-10-spielfrei/
CATEGORIES:Jugend ITN 8-10
END:VEVENT
BEGIN:VEVENT
DTSTART;TZID=Europe/Berlin:20200705T090000
DTEND;TZID=Europe/Berlin:20200705T090000
DTSTAMP:20260420T142631
CREATED:20200603T183123Z
LAST-MODIFIED:20200603T183123Z
UID:2311-1593939600-1593939600@www.utc-biberbach.at
SUMMARY:Herren 4 gegen UTC Leonhofen 1
DESCRIPTION:
URL:https://www.utc-biberbach.at/event/herren-4-gegen-utc-leonhofen-1/
CATEGORIES:Herren KLD1
END:VEVENT
BEGIN:VEVENT
DTSTART;TZID=Europe/Berlin:20200704T130000
DTEND;TZID=Europe/Berlin:20200704T130000
DTSTAMP:20260420T142631
CREATED:20200603T183122Z
LAST-MODIFIED:20200603T183122Z
UID:2310-1593867600-1593867600@www.utc-biberbach.at
SUMMARY:Damen 1 gegen UTC Raiffeisen Weistrach 1
DESCRIPTION:
URL:https://www.utc-biberbach.at/event/damen-1-gegen-utc-raiffeisen-weistrach-1/
CATEGORIES:Damen KLC1
END:VEVENT
BEGIN:VEVENT
DTSTART;TZID=Europe/Berlin:20200704T120000
DTEND;TZID=Europe/Berlin:20200704T120000
DTSTAMP:20260420T142631
CREATED:20200603T183122Z
LAST-MODIFIED:20200603T183122Z
UID:2307-1593864000-1593864000@www.utc-biberbach.at
SUMMARY:UTC RAIKA Haidershofen 1 gegen Herren 3
DESCRIPTION:
URL:https://www.utc-biberbach.at/event/utc-raika-haidershofen-1-gegen-herren-3/
CATEGORIES:Herren KLC2
END:VEVENT
BEGIN:VEVENT
DTSTART;TZID=Europe/Berlin:20200704T120000
DTEND;TZID=Europe/Berlin:20200704T120000
DTSTAMP:20260420T142631
CREATED:20200603T183122Z
LAST-MODIFIED:20200603T183122Z
UID:2308-1593864000-1593864000@www.utc-biberbach.at
SUMMARY:UTC Sparkasse Scheibbs 5 gegen Herren 5
DESCRIPTION:
URL:https://www.utc-biberbach.at/event/utc-sparkasse-scheibbs-5-gegen-herren-5/
CATEGORIES:Herren KLF1
END:VEVENT
BEGIN:VEVENT
DTSTART;TZID=Europe/Berlin:20200704T120000
DTEND;TZID=Europe/Berlin:20200704T120000
DTSTAMP:20260420T142631
CREATED:20200603T183122Z
LAST-MODIFIED:20200603T183122Z
UID:2309-1593864000-1593864000@www.utc-biberbach.at
SUMMARY:UTC Raika St.Martin 1 gegen Herren 2
DESCRIPTION:
URL:https://www.utc-biberbach.at/event/utc-raika-st-martin-1-gegen-herren-2/
CATEGORIES:Herren KLB
END:VEVENT
BEGIN:VEVENT
DTSTART;TZID=Europe/Berlin:20200703T150000
DTEND;TZID=Europe/Berlin:20200703T150000
DTSTAMP:20260420T142631
CREATED:20200603T183122Z
LAST-MODIFIED:20200603T183122Z
UID:2306-1593788400-1593788400@www.utc-biberbach.at
SUMMARY:UTC Raika St.Martin 1 gegen Herren +35
DESCRIPTION:
URL:https://www.utc-biberbach.at/event/utc-raika-st-martin-1-gegen-herren-35/
CATEGORIES:Herren 35+ B
END:VEVENT
BEGIN:VEVENT
DTSTART;TZID=Europe/Berlin:20200628T150000
DTEND;TZID=Europe/Berlin:20200628T150000
DTSTAMP:20260420T142631
CREATED:20200603T183121Z
LAST-MODIFIED:20200603T183121Z
UID:2305-1593356400-1593356400@www.utc-biberbach.at
SUMMARY:TC Lunz 1 gegen Jugend ITN8-10
DESCRIPTION:
URL:https://www.utc-biberbach.at/event/tc-lunz-1-gegen-jugend-itn8-10/
CATEGORIES:Jugend ITN 8-10
END:VEVENT
BEGIN:VEVENT
DTSTART;TZID=Europe/Berlin:20200628T090000
DTEND;TZID=Europe/Berlin:20200628T090000
DTSTAMP:20260420T142631
CREATED:20200603T183121Z
LAST-MODIFIED:20200603T183121Z
UID:2302-1593334800-1593334800@www.utc-biberbach.at
SUMMARY:Herren 5 gegen UTC St. Georgen/Ybbsfelde 1
DESCRIPTION:
URL:https://www.utc-biberbach.at/event/herren-5-gegen-utc-st-georgen-ybbsfelde-1/
CATEGORIES:Herren KLF1
END:VEVENT
BEGIN:VEVENT
DTSTART;TZID=Europe/Berlin:20200628T090000
DTEND;TZID=Europe/Berlin:20200628T090000
DTSTAMP:20260420T142631
CREATED:20200603T183121Z
LAST-MODIFIED:20200603T183121Z
UID:2303-1593334800-1593334800@www.utc-biberbach.at
SUMMARY:Herren 4 gegen Tennisclub St. Valentin 4
DESCRIPTION:
URL:https://www.utc-biberbach.at/event/herren-4-gegen-tennisclub-st-valentin-4/
CATEGORIES:Herren KLD1
END:VEVENT
BEGIN:VEVENT
DTSTART;TZID=Europe/Berlin:20200628T090000
DTEND;TZID=Europe/Berlin:20200628T090000
DTSTAMP:20260420T142631
CREATED:20200603T183121Z
LAST-MODIFIED:20200603T183121Z
UID:2304-1593334800-1593334800@www.utc-biberbach.at
SUMMARY:UTC moebel polt St. Peter/Au 1 gegen Herren 3
DESCRIPTION:
URL:https://www.utc-biberbach.at/event/utc-moebel-polt-st-peter-au-1-gegen-herren-3/
CATEGORIES:Herren KLC2
END:VEVENT
BEGIN:VEVENT
DTSTART;TZID=Europe/Berlin:20200627T130000
DTEND;TZID=Europe/Berlin:20200627T130000
DTSTAMP:20260420T142631
CREATED:20200603T183121Z
LAST-MODIFIED:20200603T183121Z
UID:2300-1593262800-1593262800@www.utc-biberbach.at
SUMMARY:Damen 2 gegen ASK TC Kematen/Ybbs 2
DESCRIPTION:
URL:https://www.utc-biberbach.at/event/damen-2-gegen-ask-tc-kematen-ybbs-2/
CATEGORIES:Damen KLD2
END:VEVENT
BEGIN:VEVENT
DTSTART;TZID=Europe/Berlin:20200627T130000
DTEND;TZID=Europe/Berlin:20200627T130000
DTSTAMP:20260420T142631
CREATED:20200603T183121Z
LAST-MODIFIED:20200603T183121Z
UID:2301-1593262800-1593262800@www.utc-biberbach.at
SUMMARY:UTC VB Waidhofen/Y. 2 gegen Damen 1
DESCRIPTION:
URL:https://www.utc-biberbach.at/event/utc-vb-waidhofen-y-2-gegen-damen-1/
CATEGORIES:Damen KLC1
END:VEVENT
BEGIN:VEVENT
DTSTART;TZID=Europe/Berlin:20200627T120000
DTEND;TZID=Europe/Berlin:20200627T120000
DTSTAMP:20260420T142631
CREATED:20200603T183120Z
LAST-MODIFIED:20200603T183120Z
UID:2299-1593259200-1593259200@www.utc-biberbach.at
SUMMARY:KSV Boehlerwerk 1 gegen Herren 2
DESCRIPTION:
URL:https://www.utc-biberbach.at/event/ksv-boehlerwerk-1-gegen-herren-2/
CATEGORIES:Herren KLB
END:VEVENT
BEGIN:VEVENT
DTSTART;TZID=Europe/Berlin:20200626T150000
DTEND;TZID=Europe/Berlin:20200626T150000
DTSTAMP:20260420T142631
CREATED:20200603T183120Z
LAST-MODIFIED:20200603T183120Z
UID:2298-1593183600-1593183600@www.utc-biberbach.at
SUMMARY:Union Raika Randegg 1 gegen Herren +35
DESCRIPTION:
URL:https://www.utc-biberbach.at/event/union-raika-randegg-1-gegen-herren-35/
CATEGORIES:Herren 35+ B
END:VEVENT
BEGIN:VEVENT
DTSTART;TZID=Europe/Berlin:20200621T150000
DTEND;TZID=Europe/Berlin:20200621T150000
DTSTAMP:20260420T142631
CREATED:20200603T183120Z
LAST-MODIFIED:20200603T183120Z
UID:2297-1592751600-1592751600@www.utc-biberbach.at
SUMMARY:Jugend ITN8-10 gegen UTC Strengberg 1
DESCRIPTION:
URL:https://www.utc-biberbach.at/event/jugend-itn8-10-gegen-utc-strengberg-1/
CATEGORIES:Jugend ITN 8-10
END:VEVENT
BEGIN:VEVENT
DTSTART;TZID=Europe/Berlin:20200621T090000
DTEND;TZID=Europe/Berlin:20200621T090000
DTSTAMP:20260420T142631
CREATED:20200603T183120Z
LAST-MODIFIED:20200603T183120Z
UID:2296-1592730000-1592730000@www.utc-biberbach.at
SUMMARY:TC Volksbank Gaming 1 gegen Herren 5
DESCRIPTION:
URL:https://www.utc-biberbach.at/event/tc-volksbank-gaming-1-gegen-herren-5/
CATEGORIES:Herren KLF1
END:VEVENT
BEGIN:VEVENT
DTSTART;TZID=Europe/Berlin:20200621T090000
DTEND;TZID=Europe/Berlin:20200621T090000
DTSTAMP:20260420T142631
CREATED:20200603T183119Z
LAST-MODIFIED:20200603T183119Z
UID:2295-1592730000-1592730000@www.utc-biberbach.at
SUMMARY:Herren 3 gegen UTC VB Waidhofen/Y. 3
DESCRIPTION:
URL:https://www.utc-biberbach.at/event/herren-3-gegen-utc-vb-waidhofen-y-3-2/
CATEGORIES:Herren KLC2
END:VEVENT
BEGIN:VEVENT
DTSTART;TZID=Europe/Berlin:20200620T130000
DTEND;TZID=Europe/Berlin:20200620T130000
DTSTAMP:20260420T142631
CREATED:20200603T183119Z
LAST-MODIFIED:20200603T183119Z
UID:2293-1592658000-1592658000@www.utc-biberbach.at
SUMMARY:UTC Raika Pabst Aschbach 1 gegen Damen 2
DESCRIPTION:
URL:https://www.utc-biberbach.at/event/utc-raika-pabst-aschbach-1-gegen-damen-2/
CATEGORIES:Damen KLD2
END:VEVENT
BEGIN:VEVENT
DTSTART;TZID=Europe/Berlin:20200620T130000
DTEND;TZID=Europe/Berlin:20200620T130000
DTSTAMP:20260420T142631
CREATED:20200603T183119Z
LAST-MODIFIED:20200603T183119Z
UID:2294-1592658000-1592658000@www.utc-biberbach.at
SUMMARY:Damen 1 gegen Union Allhartsberg 1
DESCRIPTION:
URL:https://www.utc-biberbach.at/event/damen-1-gegen-union-allhartsberg-1/
CATEGORIES:Damen KLC1
END:VEVENT
BEGIN:VEVENT
DTSTART;TZID=Europe/Berlin:20200620T120000
DTEND;TZID=Europe/Berlin:20200620T120000
DTSTAMP:20260420T142631
CREATED:20200603T183119Z
LAST-MODIFIED:20200603T183119Z
UID:2291-1592654400-1592654400@www.utc-biberbach.at
SUMMARY:TC KAMPER St. Valentin 2 gegen Herren 4
DESCRIPTION:
URL:https://www.utc-biberbach.at/event/tc-kamper-st-valentin-2-gegen-herren-4/
CATEGORIES:Herren KLD1
END:VEVENT
BEGIN:VEVENT
DTSTART;TZID=Europe/Berlin:20200620T120000
DTEND;TZID=Europe/Berlin:20200620T120000
DTSTAMP:20260420T142631
CREATED:20200603T183119Z
LAST-MODIFIED:20200603T183119Z
UID:2292-1592654400-1592654400@www.utc-biberbach.at
SUMMARY:Herren 2 spielfrei*
DESCRIPTION:
URL:https://www.utc-biberbach.at/event/herren-2-spielfrei/
CATEGORIES:Herren KLB
END:VEVENT
END:VCALENDAR